BEGIN:VCALENDAR
VERSION:2.0
PRODID:icalendar-ruby
CALSCALE:GREGORIAN
METHOD:PUBLISH
BEGIN:VEVENT
DTSTAMP:20260421T115433Z
UID:30-2277232@inletunited.ca
DTSTART:20260426T180000Z
DTEND:20260426T190000Z
CLASS:PUBLIC
CREATED:20260421T033634
DESCRIPTION:Join us for Coffee Time (or tea) after church on Sundays for a 
 time to catch up\, meet new people\, find out more about Inlet and make co
 nnections. \nIf you are interested in helping host the coffee time\, let 
 us know and we can connect you with the Hospitality Team!\n \n 
LAST-MODIFIED:20260421T033634
LOCATION:at church!
SUMMARY:After Church Coffee Time
URL;VALUE=URI:https://www.inletunited.ca/events/after-church-coffee-time/20
 26-04-26
ATTACH;FILENAME=church coffee time.jpg;FMTTYPE=image/jpeg:https://dq5pwpg1q
 8ru0.cloudfront.net/2022/08/03/21/37/16/bc223d5a-32e5-4bb4-8a46-100e14b2bb
 16/church%20coffee%20time.jpg
END:VEVENT
END:VCALENDAR
