BEGIN:VCALENDAR
VERSION:2.0
PRODID:icalendar-ruby
CALSCALE:GREGORIAN
METHOD:PUBLISH
BEGIN:VEVENT
DTSTAMP:20260421T114856Z
UID:130-1941223@inletunited.ca
DTSTART:20260428T020000Z
DTEND:20260428T031500Z
CLASS:PUBLIC
CREATED:20260305T113652
DESCRIPTION:Inlet Book Club: Spring Edition!\nJoin Rev. Jenn for the Inlet 
 Book Club: Spring Edition!\nDiscovering the Spiritual Wisdom of Trees by B
 eth Norcross &amp\; Leah Rampy\nTo register email Rev. Jenn at revjenn@inl
 etunited.ca
LAST-MODIFIED:20260305T113652
LOCATION:Via Zoom
SUMMARY:Inlet Book Club: Spring Edition!
URL;VALUE=URI:https://www.inletunited.ca/events/inlet-book-club-spring-edit
 ion/2026-04-27
ATTACH;FILENAME=Spring Bookclub 2026 invite poster final.png;FMTTYPE=image/
 png:https://dq5pwpg1q8ru0.cloudfront.net/2026/02/03/20/26/25/50afb6a4-9706
 -436a-af57-7e3709cfb890/Spring%20Bookclub%202026%20invite%20poster%20final
 .png
ATTACH;FILENAME=Book cover snapshot.png;FMTTYPE=image/png:https://dq5pwpg1q
 8ru0.cloudfront.net/2026/02/03/20/27/41/fe8c8c82-8e8e-4948-9047-ae0c507a8b
 9f/Book%20cover%20snapshot.png
END:VEVENT
END:VCALENDAR
